BEGIN:VCALENDAR
VERSION:2.0
PRODID:-//Lina Jimenez Caicedo - ECPv6.15.15//NONSGML v1.0//EN
CALSCALE:GREGORIAN
METHOD:PUBLISH
X-WR-CALNAME:Lina Jimenez Caicedo
X-ORIGINAL-URL:https://linajimenezcaicedo.insurancegls.com
X-WR-CALDESC:Events for Lina Jimenez Caicedo
REFRESH-INTERVAL;VALUE=DURATION:PT1H
X-Robots-Tag:noindex
X-PUBLISHED-TTL:PT1H
BEGIN:VTIMEZONE
TZID:America/New_York
BEGIN:DAYLIGHT
TZOFFSETFROM:-0500
TZOFFSETTO:-0400
TZNAME:EDT
DTSTART:20250309T070000
END:DAYLIGHT
BEGIN:STANDARD
TZOFFSETFROM:-0400
TZOFFSETTO:-0500
TZNAME:EST
DTSTART:20251102T060000
END:STANDARD
BEGIN:DAYLIGHT
TZOFFSETFROM:-0500
TZOFFSETTO:-0400
TZNAME:EDT
DTSTART:20260308T070000
END:DAYLIGHT
BEGIN:STANDARD
TZOFFSETFROM:-0400
TZOFFSETTO:-0500
TZNAME:EST
DTSTART:20261101T060000
END:STANDARD
BEGIN:DAYLIGHT
TZOFFSETFROM:-0500
TZOFFSETTO:-0400
TZNAME:EDT
DTSTART:20270314T070000
END:DAYLIGHT
BEGIN:STANDARD
TZOFFSETFROM:-0400
TZOFFSETTO:-0500
TZNAME:EST
DTSTART:20271107T060000
END:STANDARD
END:VTIMEZONE
BEGIN:VEVENT
DTSTART;TZID=America/New_York:20260113T110000
DTEND;TZID=America/New_York:20260113T120000
DTSTAMP:20260424T171216
CREATED:20251218T184451Z
LAST-MODIFIED:20260113T202951Z
UID:10001453-1768302000-1768305600@linajimenezcaicedo.insurancegls.com
SUMMARY:Wellabe | Medico  – Tuesday Talk!
DESCRIPTION:
URL:https://linajimenezcaicedo.insurancegls.com/event/wellabe-medico-tuesday-talk-5/
END:VEVENT
BEGIN:VEVENT
DTSTART;TZID=America/New_York:20260113T110000
DTEND;TZID=America/New_York:20260113T120000
DTSTAMP:20260424T171216
CREATED:20260107T201459Z
LAST-MODIFIED:20260113T202951Z
UID:10001459-1768302000-1768305600@linajimenezcaicedo.insurancegls.com
SUMMARY:Aetna Senior Supplemental – SSI Agent Website Tutorial
DESCRIPTION:
URL:https://linajimenezcaicedo.insurancegls.com/event/aetna-senior-supplemental-ssi-agent-website-tutorial-2/
END:VEVENT
BEGIN:VEVENT
DTSTART;TZID=America/New_York:20260113T130000
DTEND;TZID=America/New_York:20260113T140000
DTSTAMP:20260424T171216
CREATED:20260107T201459Z
LAST-MODIFIED:20260113T202951Z
UID:10001460-1768309200-1768312800@linajimenezcaicedo.insurancegls.com
SUMMARY:Aetna Senior Supplemental – Dental\, Vision\, & Hearing Flex
DESCRIPTION:
URL:https://linajimenezcaicedo.insurancegls.com/event/aetna-senior-supplemental-dental-vision-hearing-flex-5/
END:VEVENT
END:VCALENDAR