BEGIN:VCALENDAR
VERSION:2.0
PRODID:-//Lina Jimenez Caicedo - ECPv6.15.15//NONSGML v1.0//EN
CALSCALE:GREGORIAN
METHOD:PUBLISH
X-ORIGINAL-URL:https://linajimenezcaicedo.insurancegls.com
X-WR-CALDESC:Events for Lina Jimenez Caicedo
REFRESH-INTERVAL;VALUE=DURATION:PT1H
X-Robots-Tag:noindex
X-PUBLISHED-TTL:PT1H
BEGIN:VTIMEZONE
TZID:EST
END:VTIMEZONE
BEGIN:VTIMEZONE
TZID:CST
END:VTIMEZONE
BEGIN:VTIMEZONE
TZID:PST
END:VTIMEZONE
BEGIN:VEVENT
DTSTART;TZID=EST:20260518T100000
DTEND;TZID=EST:20260518T100000
DTSTAMP:20260421T111701
CREATED:20260418T181842Z
LAST-MODIFIED:20260420T183423Z
UID:10001876-1779098400-1779098400@linajimenezcaicedo.insurancegls.com
SUMMARY:Momentum Mondays
DESCRIPTION:
URL:https://linajimenezcaicedo.insurancegls.com/event/momentum-mondays-11/
END:VEVENT
BEGIN:VEVENT
DTSTART;TZID=CST:20260518T110000
DTEND;TZID=CST:20260518T110000
DTSTAMP:20260421T111701
CREATED:20260418T181842Z
LAST-MODIFIED:20260420T183423Z
UID:10001877-1779102000-1779102000@linajimenezcaicedo.insurancegls.com
SUMMARY:2026 MA/MAPD product training
DESCRIPTION:
URL:https://linajimenezcaicedo.insurancegls.com/event/2026-ma-mapd-product-training-63/
END:VEVENT
BEGIN:VEVENT
DTSTART;TZID=CST:20260518T113000
DTEND;TZID=CST:20260518T113000
DTSTAMP:20260421T111701
CREATED:20260418T181842Z
LAST-MODIFIED:20260420T183423Z
UID:10001878-1779103800-1779103800@linajimenezcaicedo.insurancegls.com
SUMMARY:Momentum Mondays
DESCRIPTION:
URL:https://linajimenezcaicedo.insurancegls.com/event/momentum-mondays-12/
END:VEVENT
BEGIN:VEVENT
DTSTART;TZID=PST:20260519T093000
DTEND;TZID=PST:20260519T093000
DTSTAMP:20260421T111701
CREATED:20260419T183023Z
LAST-MODIFIED:20260420T183423Z
UID:10001879-1779183000-1779183000@linajimenezcaicedo.insurancegls.com
SUMMARY:Grab and Go: Swing by for a refill on kits and supplies
DESCRIPTION:
URL:https://linajimenezcaicedo.insurancegls.com/event/grab-and-go-swing-by-for-a-refill-on-kits-and-supplies-4/
END:VEVENT
BEGIN:VEVENT
DTSTART;TZID=EST:20260519T093000
DTEND;TZID=EST:20260519T093000
DTSTAMP:20260421T111701
CREATED:20260419T183023Z
LAST-MODIFIED:20260420T183423Z
UID:10001880-1779183000-1779183000@linajimenezcaicedo.insurancegls.com
SUMMARY:2026 MA/MAPD product training
DESCRIPTION:
URL:https://linajimenezcaicedo.insurancegls.com/event/2026-ma-mapd-product-training-64/
END:VEVENT
BEGIN:VEVENT
DTSTART;TZID=CST:20260519T100000
DTEND;TZID=CST:20260519T100000
DTSTAMP:20260421T111701
CREATED:20260419T183023Z
LAST-MODIFIED:20260420T183423Z
UID:10001881-1779184800-1779184800@linajimenezcaicedo.insurancegls.com
SUMMARY:Educational events: Learn how to offer them and guidelines you need to follow
DESCRIPTION:
URL:https://linajimenezcaicedo.insurancegls.com/event/educational-events-learn-how-to-offer-them-and-guidelines-you-need-to-follow-2/
END:VEVENT
BEGIN:VEVENT
DTSTART;TZID=EST:20260519T110000
DTEND;TZID=EST:20260519T110000
DTSTAMP:20260421T111701
CREATED:20260419T183024Z
LAST-MODIFIED:20260420T183423Z
UID:10001882-1779188400-1779188400@linajimenezcaicedo.insurancegls.com
SUMMARY:Producer World overview training
DESCRIPTION:
URL:https://linajimenezcaicedo.insurancegls.com/event/producer-world-overview-training-19/
END:VEVENT
BEGIN:VEVENT
DTSTART;TZID=EST:20260519T130000
DTEND;TZID=EST:20260519T130000
DTSTAMP:20260421T111701
CREATED:20260419T183024Z
LAST-MODIFIED:20260420T183423Z
UID:10001883-1779195600-1779195600@linajimenezcaicedo.insurancegls.com
SUMMARY:2026 Retail Event Readiness
DESCRIPTION:
URL:https://linajimenezcaicedo.insurancegls.com/event/2026-retail-event-readiness-16/
END:VEVENT
BEGIN:VEVENT
DTSTART;TZID=EST:20260520T100000
DTEND;TZID=EST:20260520T100000
DTSTAMP:20260421T111701
CREATED:20260420T183424Z
LAST-MODIFIED:20260420T183424Z
UID:10001884-1779271200-1779271200@linajimenezcaicedo.insurancegls.com
SUMMARY:Medicare Shop Talk
DESCRIPTION:
URL:https://linajimenezcaicedo.insurancegls.com/event/medicare-shop-talk-8/
END:VEVENT
BEGIN:VEVENT
DTSTART;TZID=EST:20260520T100000
DTEND;TZID=EST:20260520T100000
DTSTAMP:20260421T111702
CREATED:20260420T183424Z
LAST-MODIFIED:20260420T183424Z
UID:10001885-1779271200-1779271200@linajimenezcaicedo.insurancegls.com
SUMMARY:2026 MA/MAPD product training
DESCRIPTION:
URL:https://linajimenezcaicedo.insurancegls.com/event/2026-ma-mapd-product-training-65/
END:VEVENT
BEGIN:VEVENT
DTSTART;TZID=CST:20260520T100000
DTEND;TZID=CST:20260520T100000
DTSTAMP:20260421T111702
CREATED:20260420T183424Z
LAST-MODIFIED:20260420T183424Z
UID:10001886-1779271200-1779271200@linajimenezcaicedo.insurancegls.com
SUMMARY:BenefitsCheckUp
DESCRIPTION:
URL:https://linajimenezcaicedo.insurancegls.com/event/benefitscheckup-4/
END:VEVENT
BEGIN:VEVENT
DTSTART;TZID=EST:20260520T100000
DTEND;TZID=EST:20260520T100000
DTSTAMP:20260421T111702
CREATED:20260420T183424Z
LAST-MODIFIED:20260420T183424Z
UID:10001887-1779271200-1779271200@linajimenezcaicedo.insurancegls.com
SUMMARY:2026 MA/MAPD product training
DESCRIPTION:
URL:https://linajimenezcaicedo.insurancegls.com/event/2026-ma-mapd-product-training-66/
END:VEVENT
BEGIN:VEVENT
DTSTART;TZID=CST:20260520T120000
DTEND;TZID=CST:20260520T120000
DTSTAMP:20260421T111702
CREATED:20260420T183424Z
LAST-MODIFIED:20260420T183424Z
UID:10001888-1779278400-1779278400@linajimenezcaicedo.insurancegls.com
SUMMARY:BenefitsCheckUp
DESCRIPTION:
URL:https://linajimenezcaicedo.insurancegls.com/event/benefitscheckup-5/
END:VEVENT
END:VCALENDAR